BEGIN:VCALENDAR
VERSION:2.0
PRODID:-//Par et pour la communauté - ECPv6.15.20//NONSGML v1.0//EN
CALSCALE:GREGORIAN
METHOD:PUBLISH
X-ORIGINAL-URL:https://collectifdestandon.ca
X-WR-CALDESC:Événements pour Par et pour la communauté
REFRESH-INTERVAL;VALUE=DURATION:PT1H
X-Robots-Tag:noindex
X-PUBLISHED-TTL:PT1H
BEGIN:VTIMEZONE
TZID:America/Halifax
BEGIN:DAYLIGHT
TZOFFSETFROM:-0400
TZOFFSETTO:-0300
TZNAME:ADT
DTSTART:20250309T060000
END:DAYLIGHT
BEGIN:STANDARD
TZOFFSETFROM:-0300
TZOFFSETTO:-0400
TZNAME:AST
DTSTART:20251102T050000
END:STANDARD
BEGIN:DAYLIGHT
TZOFFSETFROM:-0400
TZOFFSETTO:-0300
TZNAME:ADT
DTSTART:20260308T060000
END:DAYLIGHT
BEGIN:STANDARD
TZOFFSETFROM:-0300
TZOFFSETTO:-0400
TZNAME:AST
DTSTART:20261101T050000
END:STANDARD
BEGIN:DAYLIGHT
TZOFFSETFROM:-0400
TZOFFSETTO:-0300
TZNAME:ADT
DTSTART:20270314T060000
END:DAYLIGHT
BEGIN:STANDARD
TZOFFSETFROM:-0300
TZOFFSETTO:-0400
TZNAME:AST
DTSTART:20271107T050000
END:STANDARD
END:VTIMEZONE
BEGIN:VEVENT
DTSTART;TZID=America/Halifax:20260404T100000
DTEND;TZID=America/Halifax:20260404T160000
DTSTAMP:20260419T150024
CREATED:20260331T003435Z
LAST-MODIFIED:20260402T222658Z
UID:949-1775296800-1775318400@collectifdestandon.ca
SUMMARY:Ouverture de la serre pour les semis
DESCRIPTION:Samedi le 4 avril\, de 9h00 à 16h00\, nous vous attendons pour partir vos semis!\nNous fournissons le terreau et les plateaux (désinfectés). Ainsi que les instructions et conseils de nos horticultrices expérimentées!\nVous n’avez qu’à apporter vos semis préférés.\n10$ le plateau de semis. 1$ de rabais pour les membres.\nP.S. La serre est à côté du garage des pompiers! \n\n  \n  \n 
URL:https://collectifdestandon.ca/event/ouverture-de-la-serre-pour-les-semis/
LOCATION:La serre d’Éden\, 59 route de l'Église\, Saint-Léon-de-Standon\, QC - Québec\, G0R 4L0\, Canada
ATTACH;FMTTYPE=image/webp:https://collectifdestandon.ca/wp-content/uploads/2026/03/StockCake-Etapes_de_croissance_des_semis-264997-medium.webp
END:VEVENT
END:VCALENDAR